BEGIN:VCALENDAR
VERSION:2.0
PRODID:-//Terrace Tavern LBI - ECPv6.15.12.2//NONSGML v1.0//EN
CALSCALE:GREGORIAN
METHOD:PUBLISH
X-WR-CALNAME:Terrace Tavern LBI
X-ORIGINAL-URL:https://terracetavernlbi.com
X-WR-CALDESC:Events for Terrace Tavern LBI
REFRESH-INTERVAL;VALUE=DURATION:PT1H
X-Robots-Tag:noindex
X-PUBLISHED-TTL:PT1H
BEGIN:VTIMEZONE
TZID:America/New_York
BEGIN:DAYLIGHT
TZOFFSETFROM:-0500
TZOFFSETTO:-0400
TZNAME:EDT
DTSTART:20250309T070000
END:DAYLIGHT
BEGIN:STANDARD
TZOFFSETFROM:-0400
TZOFFSETTO:-0500
TZNAME:EST
DTSTART:20251102T060000
END:STANDARD
BEGIN:DAYLIGHT
TZOFFSETFROM:-0500
TZOFFSETTO:-0400
TZNAME:EDT
DTSTART:20260308T070000
END:DAYLIGHT
BEGIN:STANDARD
TZOFFSETFROM:-0400
TZOFFSETTO:-0500
TZNAME:EST
DTSTART:20261101T060000
END:STANDARD
BEGIN:DAYLIGHT
TZOFFSETFROM:-0500
TZOFFSETTO:-0400
TZNAME:EDT
DTSTART:20270314T070000
END:DAYLIGHT
BEGIN:STANDARD
TZOFFSETFROM:-0400
TZOFFSETTO:-0500
TZNAME:EST
DTSTART:20271107T060000
END:STANDARD
END:VTIMEZONE
BEGIN:VEVENT
DTSTART;TZID=America/New_York:20260522T210000
DTEND;TZID=America/New_York:20260523T000000
DTSTAMP:20260422T002907
CREATED:20251114T235411Z
LAST-MODIFIED:20260421T215503Z
UID:4309-1779483600-1779494400@terracetavernlbi.com
SUMMARY:Chuck Miller
DESCRIPTION:
URL:https://terracetavernlbi.com/event/chuck-miller-2/
ATTACH;FMTTYPE=image/jpeg:https://terracetavernlbi.com/wp-content/uploads/2023/05/thumbnail_image0.jpg
END:VEVENT
BEGIN:VEVENT
DTSTART;TZID=America/New_York:20260523T170000
DTEND;TZID=America/New_York:20260523T200000
DTSTAMP:20260422T002907
CREATED:20250926T222126Z
LAST-MODIFIED:20260421T215503Z
UID:4198-1779555600-1779566400@terracetavernlbi.com
SUMMARY:Skip Winters Duo
DESCRIPTION:
URL:https://terracetavernlbi.com/event/skip-winters-duo/
ATTACH;FMTTYPE=image/jpeg:https://terracetavernlbi.com/wp-content/uploads/2023/05/thumbnail_image0.jpg
END:VEVENT
BEGIN:VEVENT
DTSTART;TZID=America/New_York:20260523T210000
DTEND;TZID=America/New_York:20260524T000000
DTSTAMP:20260422T002907
CREATED:20260125T225542Z
LAST-MODIFIED:20260421T215503Z
UID:4427-1779570000-1779580800@terracetavernlbi.com
SUMMARY:DJ Hunter
DESCRIPTION:
URL:https://terracetavernlbi.com/event/dj-hunter-2/
ATTACH;FMTTYPE=image/jpeg:https://terracetavernlbi.com/wp-content/uploads/2023/05/thumbnail_image0.jpg
END:VEVENT
BEGIN:VEVENT
DTSTART;TZID=America/New_York:20260524T170000
DTEND;TZID=America/New_York:20260524T200000
DTSTAMP:20260422T002907
CREATED:20250926T222127Z
LAST-MODIFIED:20260421T215503Z
UID:4199-1779642000-1779652800@terracetavernlbi.com
SUMMARY:Scotty Z
DESCRIPTION:
URL:https://terracetavernlbi.com/event/scotty-z-3/
ATTACH;FMTTYPE=image/jpeg:https://terracetavernlbi.com/wp-content/uploads/2023/05/thumbnail_image0.jpg
END:VEVENT
BEGIN:VEVENT
DTSTART;TZID=America/New_York:20260529T170000
DTEND;TZID=America/New_York:20260529T200000
DTSTAMP:20260422T002907
CREATED:20251124T230538Z
LAST-MODIFIED:20260421T215503Z
UID:4353-1780074000-1780084800@terracetavernlbi.com
SUMMARY:Justin Jones
DESCRIPTION:
URL:https://terracetavernlbi.com/event/justin-jones-62/
ATTACH;FMTTYPE=image/jpeg:https://terracetavernlbi.com/wp-content/uploads/2023/05/thumbnail_image0.jpg
END:VEVENT
BEGIN:VEVENT
DTSTART;TZID=America/New_York:20260529T210000
DTEND;TZID=America/New_York:20260530T000000
DTSTAMP:20260422T002907
CREATED:20251114T235412Z
LAST-MODIFIED:20260421T215503Z
UID:4310-1780088400-1780099200@terracetavernlbi.com
SUMMARY:Chuck Miller
DESCRIPTION:
URL:https://terracetavernlbi.com/event/chuck-miller-18/
ATTACH;FMTTYPE=image/jpeg:https://terracetavernlbi.com/wp-content/uploads/2023/05/thumbnail_image0.jpg
END:VEVENT
BEGIN:VEVENT
DTSTART;TZID=America/New_York:20260530T170000
DTEND;TZID=America/New_York:20260530T200000
DTSTAMP:20260422T002907
CREATED:20250926T222127Z
LAST-MODIFIED:20260421T215503Z
UID:4200-1780160400-1780171200@terracetavernlbi.com
SUMMARY:Skip Winters Duo
DESCRIPTION:
URL:https://terracetavernlbi.com/event/skip-winters-duo-2/
ATTACH;FMTTYPE=image/jpeg:https://terracetavernlbi.com/wp-content/uploads/2023/05/thumbnail_image0.jpg
END:VEVENT
BEGIN:VEVENT
DTSTART;TZID=America/New_York:20260605T210000
DTEND;TZID=America/New_York:20260606T000000
DTSTAMP:20260422T002907
CREATED:20251114T235413Z
LAST-MODIFIED:20260421T215503Z
UID:4311-1780693200-1780704000@terracetavernlbi.com
SUMMARY:Chuck Miller
DESCRIPTION:
URL:https://terracetavernlbi.com/event/chuck-miller-19/
ATTACH;FMTTYPE=image/jpeg:https://terracetavernlbi.com/wp-content/uploads/2023/05/thumbnail_image0.jpg
END:VEVENT
BEGIN:VEVENT
DTSTART;TZID=America/New_York:20260606T170000
DTEND;TZID=America/New_York:20260606T200000
DTSTAMP:20260422T002907
CREATED:20250926T222127Z
LAST-MODIFIED:20260326T223738Z
UID:4201-1780765200-1780776000@terracetavernlbi.com
SUMMARY:Skip Winters Duo
DESCRIPTION:
URL:https://terracetavernlbi.com/event/skip-winters-duo-3/
ATTACH;FMTTYPE=image/jpeg:https://terracetavernlbi.com/wp-content/uploads/2023/05/thumbnail_image0.jpg
END:VEVENT
BEGIN:VEVENT
DTSTART;TZID=America/New_York:20260612T170000
DTEND;TZID=America/New_York:20260612T200000
DTSTAMP:20260422T002907
CREATED:20251124T230540Z
LAST-MODIFIED:20260421T215503Z
UID:4354-1781283600-1781294400@terracetavernlbi.com
SUMMARY:Justin Jones
DESCRIPTION:
URL:https://terracetavernlbi.com/event/justin-jones-63/
ATTACH;FMTTYPE=image/jpeg:https://terracetavernlbi.com/wp-content/uploads/2023/05/thumbnail_image0.jpg
END:VEVENT
BEGIN:VEVENT
DTSTART;TZID=America/New_York:20260612T210000
DTEND;TZID=America/New_York:20260613T000000
DTSTAMP:20260422T002907
CREATED:20251114T235413Z
LAST-MODIFIED:20260421T215503Z
UID:4312-1781298000-1781308800@terracetavernlbi.com
SUMMARY:Chuck Miller
DESCRIPTION:
URL:https://terracetavernlbi.com/event/chuck-miller-20/
ATTACH;FMTTYPE=image/jpeg:https://terracetavernlbi.com/wp-content/uploads/2023/05/thumbnail_image0.jpg
END:VEVENT
BEGIN:VEVENT
DTSTART;TZID=America/New_York:20260613T170000
DTEND;TZID=America/New_York:20260613T200000
DTSTAMP:20260422T002907
CREATED:20250926T222127Z
LAST-MODIFIED:20260421T215503Z
UID:4202-1781370000-1781380800@terracetavernlbi.com
SUMMARY:Skip Winters Duo
DESCRIPTION:
URL:https://terracetavernlbi.com/event/skip-winters-duo-4/
ATTACH;FMTTYPE=image/jpeg:https://terracetavernlbi.com/wp-content/uploads/2023/05/thumbnail_image0.jpg
END:VEVENT
BEGIN:VEVENT
DTSTART;TZID=America/New_York:20260614T170000
DTEND;TZID=America/New_York:20260614T200000
DTSTAMP:20260422T002907
CREATED:20250926T222128Z
LAST-MODIFIED:20260421T215503Z
UID:4203-1781456400-1781467200@terracetavernlbi.com
SUMMARY:Scotty Z
DESCRIPTION:
URL:https://terracetavernlbi.com/event/scotty-z-4/
ATTACH;FMTTYPE=image/jpeg:https://terracetavernlbi.com/wp-content/uploads/2023/05/thumbnail_image0.jpg
END:VEVENT
BEGIN:VEVENT
DTSTART;TZID=America/New_York:20260615T170000
DTEND;TZID=America/New_York:20260615T200000
DTSTAMP:20260422T002907
CREATED:20251002T233918Z
LAST-MODIFIED:20260421T215503Z
UID:4243-1781542800-1781553600@terracetavernlbi.com
SUMMARY:Scout Duo
DESCRIPTION:
URL:https://terracetavernlbi.com/event/scout-duo-5/
ATTACH;FMTTYPE=image/jpeg:https://terracetavernlbi.com/wp-content/uploads/2023/05/thumbnail_image0.jpg
END:VEVENT
BEGIN:VEVENT
DTSTART;TZID=America/New_York:20260616T170000
DTEND;TZID=America/New_York:20260616T200000
DTSTAMP:20260422T002907
CREATED:20250908T220541Z
LAST-MODIFIED:20260421T215503Z
UID:4174-1781629200-1781640000@terracetavernlbi.com
SUMMARY:Chris Thomas
DESCRIPTION:
URL:https://terracetavernlbi.com/event/chris-thomas/
ATTACH;FMTTYPE=image/jpeg:https://terracetavernlbi.com/wp-content/uploads/2023/05/thumbnail_image0.jpg
END:VEVENT
BEGIN:VEVENT
DTSTART;TZID=America/New_York:20260617T170000
DTEND;TZID=America/New_York:20260617T200000
DTSTAMP:20260422T002907
CREATED:20251002T233918Z
LAST-MODIFIED:20260421T215503Z
UID:4244-1781715600-1781726400@terracetavernlbi.com
SUMMARY:Dan Brown
DESCRIPTION:
URL:https://terracetavernlbi.com/event/dan-brown/
ATTACH;FMTTYPE=image/jpeg:https://terracetavernlbi.com/wp-content/uploads/2023/05/thumbnail_image0.jpg
END:VEVENT
BEGIN:VEVENT
DTSTART;TZID=America/New_York:20260618T170000
DTEND;TZID=America/New_York:20260618T200000
DTSTAMP:20260422T002907
CREATED:20251001T232522Z
LAST-MODIFIED:20260421T215503Z
UID:4234-1781802000-1781812800@terracetavernlbi.com
SUMMARY:Josh and Jeff
DESCRIPTION:
URL:https://terracetavernlbi.com/event/josh-and-jeff/
ATTACH;FMTTYPE=image/jpeg:https://terracetavernlbi.com/wp-content/uploads/2023/05/thumbnail_image0.jpg
END:VEVENT
BEGIN:VEVENT
DTSTART;TZID=America/New_York:20260619T170000
DTEND;TZID=America/New_York:20260619T200000
DTSTAMP:20260422T002907
CREATED:20251001T232523Z
LAST-MODIFIED:20260421T215503Z
UID:4235-1781888400-1781899200@terracetavernlbi.com
SUMMARY:Jimmy Brogan
DESCRIPTION:
URL:https://terracetavernlbi.com/event/jimmy-brogan/
ATTACH;FMTTYPE=image/jpeg:https://terracetavernlbi.com/wp-content/uploads/2023/05/thumbnail_image0.jpg
END:VEVENT
BEGIN:VEVENT
DTSTART;TZID=America/New_York:20260619T210000
DTEND;TZID=America/New_York:20260620T000000
DTSTAMP:20260422T002907
CREATED:20251114T235426Z
LAST-MODIFIED:20260421T215503Z
UID:4313-1781902800-1781913600@terracetavernlbi.com
SUMMARY:Chuck Miller
DESCRIPTION:
URL:https://terracetavernlbi.com/event/chuck-miller-21/
ATTACH;FMTTYPE=image/jpeg:https://terracetavernlbi.com/wp-content/uploads/2023/05/thumbnail_image0.jpg
END:VEVENT
BEGIN:VEVENT
DTSTART;TZID=America/New_York:20260620T170000
DTEND;TZID=America/New_York:20260620T200000
DTSTAMP:20260422T002907
CREATED:20250926T222128Z
LAST-MODIFIED:20260421T215503Z
UID:4204-1781974800-1781985600@terracetavernlbi.com
SUMMARY:Skip Winters Duo
DESCRIPTION:
URL:https://terracetavernlbi.com/event/skip-winters-duo-5/
ATTACH;FMTTYPE=image/jpeg:https://terracetavernlbi.com/wp-content/uploads/2023/05/thumbnail_image0.jpg
END:VEVENT
BEGIN:VEVENT
DTSTART;TZID=America/New_York:20260620T210000
DTEND;TZID=America/New_York:20260621T000000
DTSTAMP:20260422T002907
CREATED:20251005T211058Z
LAST-MODIFIED:20260421T215503Z
UID:4261-1781989200-1782000000@terracetavernlbi.com
SUMMARY:80s Crush!
DESCRIPTION:
URL:https://terracetavernlbi.com/event/80s-crush/
ATTACH;FMTTYPE=image/jpeg:https://terracetavernlbi.com/wp-content/uploads/2023/05/thumbnail_image0.jpg
END:VEVENT
BEGIN:VEVENT
DTSTART;TZID=America/New_York:20260621T170000
DTEND;TZID=America/New_York:20260621T200000
DTSTAMP:20260422T002907
CREATED:20250926T222128Z
LAST-MODIFIED:20260421T215503Z
UID:4205-1782061200-1782072000@terracetavernlbi.com
SUMMARY:Scotty Z
DESCRIPTION:
URL:https://terracetavernlbi.com/event/scotty-z-5/
ATTACH;FMTTYPE=image/jpeg:https://terracetavernlbi.com/wp-content/uploads/2023/05/thumbnail_image0.jpg
END:VEVENT
BEGIN:VEVENT
DTSTART;TZID=America/New_York:20260622T180000
DTEND;TZID=America/New_York:20260622T210000
DTSTAMP:20260422T002907
CREATED:20251121T220734Z
LAST-MODIFIED:20260421T215503Z
UID:4344-1782151200-1782162000@terracetavernlbi.com
SUMMARY:Trash & Treasure
DESCRIPTION:
URL:https://terracetavernlbi.com/event/trash-treasure/
ATTACH;FMTTYPE=image/jpeg:https://terracetavernlbi.com/wp-content/uploads/2023/05/thumbnail_image0.jpg
END:VEVENT
BEGIN:VEVENT
DTSTART;TZID=America/New_York:20260623T180000
DTEND;TZID=America/New_York:20260623T210000
DTSTAMP:20260422T002907
CREATED:20251119T210942Z
LAST-MODIFIED:20260421T215503Z
UID:4339-1782237600-1782248400@terracetavernlbi.com
SUMMARY:Worst Case Scenario
DESCRIPTION:
URL:https://terracetavernlbi.com/event/worst-case-scenario-2/
ATTACH;FMTTYPE=image/jpeg:https://terracetavernlbi.com/wp-content/uploads/2023/05/thumbnail_image0.jpg
END:VEVENT
BEGIN:VEVENT
DTSTART;TZID=America/New_York:20260624T170000
DTEND;TZID=America/New_York:20260624T200000
DTSTAMP:20260422T002907
CREATED:20251002T233930Z
LAST-MODIFIED:20260421T215503Z
UID:4245-1782320400-1782331200@terracetavernlbi.com
SUMMARY:Dan Brown
DESCRIPTION:
URL:https://terracetavernlbi.com/event/dan-brown-2/
ATTACH;FMTTYPE=image/jpeg:https://terracetavernlbi.com/wp-content/uploads/2023/05/thumbnail_image0.jpg
END:VEVENT
BEGIN:VEVENT
DTSTART;TZID=America/New_York:20260625T170000
DTEND;TZID=America/New_York:20260625T200000
DTSTAMP:20260422T002907
CREATED:20251114T235439Z
LAST-MODIFIED:20260421T215503Z
UID:4314-1782406800-1782417600@terracetavernlbi.com
SUMMARY:Jack Mangan
DESCRIPTION:
URL:https://terracetavernlbi.com/event/jack-mangan-6/
ATTACH;FMTTYPE=image/jpeg:https://terracetavernlbi.com/wp-content/uploads/2023/05/thumbnail_image0.jpg
END:VEVENT
BEGIN:VEVENT
DTSTART;TZID=America/New_York:20260626T170000
DTEND;TZID=America/New_York:20260626T200000
DTSTAMP:20260422T002907
CREATED:20260121T215228Z
LAST-MODIFIED:20260421T215503Z
UID:4419-1782493200-1782504000@terracetavernlbi.com
SUMMARY:Chris Guzman
DESCRIPTION:
URL:https://terracetavernlbi.com/event/chris-guzman/
ATTACH;FMTTYPE=image/jpeg:https://terracetavernlbi.com/wp-content/uploads/2023/05/thumbnail_image0.jpg
END:VEVENT
BEGIN:VEVENT
DTSTART;TZID=America/New_York:20260626T210000
DTEND;TZID=America/New_York:20260627T000000
DTSTAMP:20260422T002907
CREATED:20251114T235439Z
LAST-MODIFIED:20260421T215503Z
UID:4315-1782507600-1782518400@terracetavernlbi.com
SUMMARY:Chuck Miller
DESCRIPTION:
URL:https://terracetavernlbi.com/event/chuck-miller-22/
ATTACH;FMTTYPE=image/jpeg:https://terracetavernlbi.com/wp-content/uploads/2023/05/thumbnail_image0.jpg
END:VEVENT
BEGIN:VEVENT
DTSTART;TZID=America/New_York:20260627T170000
DTEND;TZID=America/New_York:20260627T200000
DTSTAMP:20260422T002907
CREATED:20250926T222129Z
LAST-MODIFIED:20260421T215503Z
UID:4206-1782579600-1782590400@terracetavernlbi.com
SUMMARY:Skip Winters Duo
DESCRIPTION:
URL:https://terracetavernlbi.com/event/skip-winters-duo-6/
ATTACH;FMTTYPE=image/jpeg:https://terracetavernlbi.com/wp-content/uploads/2023/05/thumbnail_image0.jpg
END:VEVENT
BEGIN:VEVENT
DTSTART;TZID=America/New_York:20260627T210000
DTEND;TZID=America/New_York:20260628T000000
DTSTAMP:20260422T002907
CREATED:20251114T235440Z
LAST-MODIFIED:20251114T235443Z
UID:4316-1782594000-1782604800@terracetavernlbi.com
SUMMARY:Big Daddy Duo
DESCRIPTION:
URL:https://terracetavernlbi.com/event/big-daddy-duo/
ATTACH;FMTTYPE=image/jpeg:https://terracetavernlbi.com/wp-content/uploads/2023/05/thumbnail_image0.jpg
END:VEVENT
END:VCALENDAR